BEGIN:VCALENDAR
VERSION:2.0
PRODID:-//Sophicity/Tribune/Twin City, GA
BEGIN:VEVENT
DTSTAMP:20260425T120754Z
UID:45e96e8a-4221-47eb-a199-77a8fc0db0e4-5933
DTSTART:20210601T223000Z
DTEND:20210601T233000Z
CLASS:PUBLIC
SUMMARY:Regular Meeting
END:VEVENT
END:VCALENDAR
